git_url: https://git.bioconductor.org/packages/maSigPro git_branch: devel git_last_commit: 62a0aeb git_last_commit_date: 2022-11-01 10:40:03 -0400 (Tue, 01 Nov 2022) Package: maSigPro Version: 1.71.0 Maintainer: Maria Jose Nueda MaintainerEmail: mj.nueda at ua.es