Package: maSigPro Version: 1.71.0 Command: /home/biocbuild/bbs-3.17-bioc/R/bin/R CMD check --install=check:maSigPro.install-out.txt --library=/home/biocbuild/bbs-3.17-bioc/R/site-library --timings maSigPro_1.71.0.tar.gz StartedAt: 2023-04-11 21:18:53 -0400 (Tue, 11 Apr 2023) EndedAt: 2023-04-11 21:21:14 -0400 (Tue, 11 Apr 2023) EllapsedTime: 140.7 seconds RetCode: 0 Status: OK CheckDir: maSigPro.Rcheck Warnings: 0