Package: maSigPro Version: 1.71.0 Command: /home/biocbuild/bbs-3.17-bioc/R/bin/R CMD INSTALL maSigPro StartedAt: 2023-04-11 15:02:41 -0400 (Tue, 11 Apr 2023) EndedAt: 2023-04-11 15:02:56 -0400 (Tue, 11 Apr 2023) EllapsedTime: 15.3 seconds RetCode: 0 Status: OK