git_url: https://git.bioconductor.org/packages/matter git_branch: devel git_last_commit: 8b4dcaa git_last_commit_date: 2022-11-18 20:09:53 -0400 (Fri, 18 Nov 2022) Package: matter Version: 2.1.0 Maintainer: Kylie A. Bemis MaintainerEmail: k.bemis at northeastern.edu