Package: metabinR Version: 1.1.2 Command: /home/biocbuild/bbs-3.17-bioc/R/bin/R CMD INSTALL metabinR StartedAt: 2023-04-12 01:34:26 -0400 (Wed, 12 Apr 2023) EndedAt: 2023-04-12 01:34:49 -0400 (Wed, 12 Apr 2023) EllapsedTime: 22.8 seconds RetCode: 0 Status: OK