git_url: https://git.bioconductor.org/packages/metabolomicsWorkbenchR git_branch: devel git_last_commit: 54c85b4 git_last_commit_date: 2022-11-01 11:22:42 -0400 (Tue, 01 Nov 2022) Package: metabolomicsWorkbenchR Version: 1.9.0 Maintainer: Gavin Rhys Lloyd MaintainerEmail: g.r.lloyd at bham.ac.uk