Package: miRNAmeConverter Version: 1.27.0 Command: /home/biocbuild/bbs-3.17-bioc/R/bin/R CMD check --install=check:miRNAmeConverter.install-out.txt --library=/home/biocbuild/bbs-3.17-bioc/R/site-library --timings miRNAmeConverter_1.27.0.tar.gz StartedAt: 2023-04-12 07:31:51 -0400 (Wed, 12 Apr 2023) EndedAt: 2023-04-12 07:34:05 -0400 (Wed, 12 Apr 2023) EllapsedTime: 134.3 seconds RetCode: 0 Status: WARNINGS CheckDir: miRNAmeConverter.Rcheck Warnings: 1