Package: miRSM Version: 1.17.0 Command: /home/biocbuild/bbs-3.17-bioc/R/bin/R CMD build --keep-empty-dirs --no-resave-data miRSM StartedAt: 2023-04-11 17:04:08 -0400 (Tue, 11 Apr 2023) EndedAt: 2023-04-11 17:05:37 -0400 (Tue, 11 Apr 2023) EllapsedTime: 88.8 seconds RetCode: 0 Status: OK PackageFile: miRSM_1.17.0.tar.gz PackageFileSize: 878.3 KiB