Package: microbiome Version: 1.21.0 Command: /home/biocbuild/bbs-3.17-bioc/R/bin/R CMD build --keep-empty-dirs --no-resave-data microbiome StartedAt: 2023-04-11 17:02:09 -0400 (Tue, 11 Apr 2023) EndedAt: 2023-04-11 17:02:41 -0400 (Tue, 11 Apr 2023) EllapsedTime: 31.8 seconds RetCode: 0 Status: OK PackageFile: microbiome_1.21.0.tar.gz PackageFileSize: 714 KiB