Package: microbiomeDASim Version: 1.13.0 Command: /home/biocbuild/bbs-3.17-bioc/R/bin/R CMD check --install=check:microbiomeDASim.install-out.txt --library=/home/biocbuild/bbs-3.17-bioc/R/site-library --timings microbiomeDASim_1.13.0.tar.gz StartedAt: 2023-04-11 21:33:15 -0400 (Tue, 11 Apr 2023) EndedAt: 2023-04-11 21:37:10 -0400 (Tue, 11 Apr 2023) EllapsedTime: 234.6 seconds RetCode: 0 Status: OK CheckDir: microbiomeDASim.Rcheck Warnings: 0