Package: motifbreakR Version: 2.13.8 Command: /home/biocbuild/bbs-3.17-bioc/R/bin/R CMD build --keep-empty-dirs --no-resave-data motifbreakR StartedAt: 2023-04-11 17:06:18 -0400 (Tue, 11 Apr 2023) EndedAt: 2023-04-11 17:13:05 -0400 (Tue, 11 Apr 2023) EllapsedTime: 407.5 seconds RetCode: 0 Status: OK PackageFile: motifbreakR_2.13.8.tar.gz PackageFileSize: 2.137 MiB