Package: motifbreakR Version: 2.13.8 Command: /home/biocbuild/bbs-3.17-bioc/R/bin/R CMD INSTALL motifbreakR StartedAt: 2023-04-11 15:25:48 -0400 (Tue, 11 Apr 2023) EndedAt: 2023-04-11 15:26:53 -0400 (Tue, 11 Apr 2023) EllapsedTime: 64.4 seconds RetCode: 0 Status: OK