Package: motifbreakR Version: 2.13.8 Command: /home/biocbuild/bbs-3.17-bioc/R/bin/R CMD build --keep-empty-dirs --no-resave-data motifbreakR StartedAt: 2023-04-12 03:22:03 -0400 (Wed, 12 Apr 2023) EndedAt: 2023-04-12 03:30:06 -0400 (Wed, 12 Apr 2023) EllapsedTime: 483.0 seconds RetCode: 0 Status: OK PackageFile: motifbreakR_2.13.8.tar.gz PackageFileSize: 2.137 MiB