Package: motifbreakR Version: 2.13.8 Command: /home/biocbuild/bbs-3.17-bioc/R/bin/R CMD INSTALL motifbreakR StartedAt: 2023-04-12 01:52:42 -0400 (Wed, 12 Apr 2023) EndedAt: 2023-04-12 01:53:55 -0400 (Wed, 12 Apr 2023) EllapsedTime: 73.1 seconds RetCode: 0 Status: OK