git_url: https://git.bioconductor.org/packages/msPurity git_branch: devel git_last_commit: d644313 git_last_commit_date: 2022-11-01 11:13:46 -0400 (Tue, 01 Nov 2022) Package: msPurity Version: 1.25.0 Maintainer: Thomas N. Lawson MaintainerEmail: thomas.nigel.lawson at gmail.com