Package: multiMiR Version: 1.21.0 Command: /home/biocbuild/bbs-3.17-bioc/R/bin/R CMD INSTALL multiMiR StartedAt: 2023-04-11 15:12:25 -0400 (Tue, 11 Apr 2023) EndedAt: 2023-04-11 15:12:42 -0400 (Tue, 11 Apr 2023) EllapsedTime: 16.6 seconds RetCode: 0 Status: OK