Package: multiscan Version: 1.59.0 Command: /home/biocbuild/bbs-3.17-bioc/R/bin/R CMD check --install=check:multiscan.install-out.txt --library=/home/biocbuild/bbs-3.17-bioc/R/site-library --timings multiscan_1.59.0.tar.gz StartedAt: 2023-04-12 07:46:56 -0400 (Wed, 12 Apr 2023) EndedAt: 2023-04-12 07:47:36 -0400 (Wed, 12 Apr 2023) EllapsedTime: 40.1 seconds RetCode: 0 Status: OK CheckDir: multiscan.Rcheck Warnings: 0