Package: mumosa Version: 1.7.1 Command: /home/biocbuild/bbs-3.17-bioc/R/bin/R CMD build --keep-empty-dirs --no-resave-data mumosa StartedAt: 2023-04-12 03:25:58 -0400 (Wed, 12 Apr 2023) EndedAt: 2023-04-12 03:27:52 -0400 (Wed, 12 Apr 2023) EllapsedTime: 114.4 seconds RetCode: 0 Status: OK PackageFile: mumosa_1.7.1.tar.gz PackageFileSize: 580.4 KiB