Package: mumosa Version: 1.7.1 Command: /home/biocbuild/bbs-3.17-bioc/R/bin/R CMD check --install=check:mumosa.install-out.txt --library=/home/biocbuild/bbs-3.17-bioc/R/site-library --timings mumosa_1.7.1.tar.gz StartedAt: 2023-04-12 07:47:17 -0400 (Wed, 12 Apr 2023) EndedAt: 2023-04-12 07:54:52 -0400 (Wed, 12 Apr 2023) EllapsedTime: 454.4 seconds RetCode: 0 Status: OK CheckDir: mumosa.Rcheck Warnings: 0