git_url: https://git.bioconductor.org/packages/mzR git_branch: devel git_last_commit: 038f68d git_last_commit_date: 2023-04-06 03:36:29 -0400 (Thu, 06 Apr 2023) Package: mzR Version: 2.33.1 Maintainer: Steffen Neumann MaintainerEmail: sneumann at ipb-halle.de