git_url: https://git.bioconductor.org/packages/nempi git_branch: devel git_last_commit: c53722c git_last_commit_date: 2023-04-06 03:12:32 -0400 (Thu, 06 Apr 2023) Package: nempi Version: 1.7.0 Maintainer: Martin Pirkl MaintainerEmail: martinpirkl at yahoo.de