git_url: https://git.bioconductor.org/packages/netboost git_branch: devel git_last_commit: 72615e5 git_last_commit_date: 2023-04-11 09:42:34 -0400 (Tue, 11 Apr 2023) Package: netboost Version: 2.7.7 Maintainer: Pascal Schlosser MaintainerEmail: pascal.schlosser at uniklinik-freiburg.de