Package: netprioR Version: 1.25.0 Command: /home/biocbuild/bbs-3.17-bioc/R/bin/R CMD check --install=check:netprioR.install-out.txt --library=/home/biocbuild/bbs-3.17-bioc/R/site-library --timings netprioR_1.25.0.tar.gz StartedAt: 2023-04-12 07:52:22 -0400 (Wed, 12 Apr 2023) EndedAt: 2023-04-12 07:53:58 -0400 (Wed, 12 Apr 2023) EllapsedTime: 95.2 seconds RetCode: 0 Status: OK CheckDir: netprioR.Rcheck Warnings: 0