git_url: https://git.bioconductor.org/packages/nnNorm git_branch: devel git_last_commit: bd41ed7 git_last_commit_date: 2022-11-01 10:37:50 -0400 (Tue, 01 Nov 2022) Package: nnNorm Version: 2.63.0 Maintainer: Adi Laurentiu Tarca MaintainerEmail: atarca at med.wayne.edu