Package: pdInfoBuilder Version: 1.63.0 Command: /home/biocbuild/bbs-3.17-bioc/R/bin/R CMD build --keep-empty-dirs --no-resave-data pdInfoBuilder StartedAt: 2023-04-12 03:39:55 -0400 (Wed, 12 Apr 2023) EndedAt: 2023-04-12 03:41:25 -0400 (Wed, 12 Apr 2023) EllapsedTime: 89.3 seconds RetCode: 0 Status: OK PackageFile: pdInfoBuilder_1.63.0.tar.gz PackageFileSize: 347.5 KiB