Package: piano Version: 2.15.0 Command: /home/biocbuild/bbs-3.17-bioc/R/bin/R CMD check --install=check:piano.install-out.txt --library=/home/biocbuild/bbs-3.17-bioc/R/site-library --timings piano_2.15.0.tar.gz StartedAt: 2023-04-11 22:29:47 -0400 (Tue, 11 Apr 2023) EndedAt: 2023-04-11 22:33:36 -0400 (Tue, 11 Apr 2023) EllapsedTime: 228.9 seconds RetCode: 0 Status: OK CheckDir: piano.Rcheck Warnings: 0