Package: podkat Version: 1.31.1 Command: /home/biocbuild/bbs-3.17-bioc/R/bin/R CMD build --keep-empty-dirs --no-resave-data podkat StartedAt: 2023-04-12 03:45:30 -0400 (Wed, 12 Apr 2023) EndedAt: 2023-04-12 03:49:14 -0400 (Wed, 12 Apr 2023) EllapsedTime: 224.0 seconds RetCode: 0 Status: OK PackageFile: podkat_1.31.1.tar.gz PackageFileSize: 1015 KiB