Package: podkat Version: 1.31.1 Command: /home/biocbuild/bbs-3.17-bioc/R/bin/R CMD check --install=check:podkat.install-out.txt --library=/home/biocbuild/bbs-3.17-bioc/R/site-library --timings podkat_1.31.1.tar.gz StartedAt: 2023-04-12 08:25:57 -0400 (Wed, 12 Apr 2023) EndedAt: 2023-04-12 08:33:42 -0400 (Wed, 12 Apr 2023) EllapsedTime: 465.2 seconds RetCode: 0 Status: WARNINGS CheckDir: podkat.Rcheck Warnings: 1