git_url: https://git.bioconductor.org/packages/pqsfinder git_branch: devel git_last_commit: c95179a git_last_commit_date: 2023-01-01 11:14:35 -0400 (Sun, 01 Jan 2023) Package: pqsfinder Version: 2.15.1 Maintainer: Jiri Hon MaintainerEmail: jiri.hon at gmail.com