Package: preprocessCore Version: 1.61.0 Command: /home/biocbuild/bbs-3.17-bioc/R/bin/R CMD INSTALL preprocessCore StartedAt: 2023-04-11 15:01:47 -0400 (Tue, 11 Apr 2023) EndedAt: 2023-04-11 15:01:57 -0400 (Tue, 11 Apr 2023) EllapsedTime: 10.0 seconds RetCode: 0 Status: OK