Package: psygenet2r Version: 1.31.0 Command: /home/biocbuild/bbs-3.17-bioc/R/bin/R CMD INSTALL psygenet2r StartedAt: 2023-04-11 15:18:38 -0400 (Tue, 11 Apr 2023) EndedAt: 2023-04-11 15:18:57 -0400 (Tue, 11 Apr 2023) EllapsedTime: 19.4 seconds RetCode: 0 Status: OK