Package: puma Version: 3.41.0 Command: /home/biocbuild/bbs-3.17-bioc/R/bin/R CMD INSTALL puma StartedAt: 2023-04-11 15:12:26 -0400 (Tue, 11 Apr 2023) EndedAt: 2023-04-11 15:13:03 -0400 (Tue, 11 Apr 2023) EllapsedTime: 37.2 seconds RetCode: 0 Status: OK