Package: qusage Version: 2.33.0 Command: /home/biocbuild/bbs-3.17-bioc/R/bin/R CMD check --install=check:qusage.install-out.txt --library=/home/biocbuild/bbs-3.17-bioc/R/site-library --timings qusage_2.33.0.tar.gz StartedAt: 2023-04-12 08:37:57 -0400 (Wed, 12 Apr 2023) EndedAt: 2023-04-12 08:49:56 -0400 (Wed, 12 Apr 2023) EllapsedTime: 719.2 seconds RetCode: 0 Status: OK CheckDir: qusage.Rcheck Warnings: 0