Package: rGADEM Version: 2.47.0 Command: /home/biocbuild/bbs-3.17-bioc/R/bin/R CMD INSTALL rGADEM StartedAt: 2023-04-11 15:14:12 -0400 (Tue, 11 Apr 2023) EndedAt: 2023-04-11 15:14:49 -0400 (Tue, 11 Apr 2023) EllapsedTime: 37.5 seconds RetCode: 0 Status: OK