git_url: https://git.bioconductor.org/packages/rGREAT git_branch: devel git_last_commit: fa93922 git_last_commit_date: 2023-04-11 09:35:52 -0400 (Tue, 11 Apr 2023) Package: rGREAT Version: 2.1.10 Maintainer: Zuguang Gu MaintainerEmail: z.gu at dkfz.de