Package: ramr Version: 1.7.0 Command: /home/biocbuild/bbs-3.17-bioc/R/bin/R CMD build --keep-empty-dirs --no-resave-data ramr StartedAt: 2023-04-11 17:37:05 -0400 (Tue, 11 Apr 2023) EndedAt: 2023-04-11 17:38:30 -0400 (Tue, 11 Apr 2023) EllapsedTime: 84.6 seconds RetCode: 0 Status: OK PackageFile: ramr_1.7.0.tar.gz PackageFileSize: 2.528 MiB