Package: ramr Version: 1.7.0 Command: /home/biocbuild/bbs-3.17-bioc/R/bin/R CMD INSTALL ramr StartedAt: 2023-04-11 15:16:18 -0400 (Tue, 11 Apr 2023) EndedAt: 2023-04-11 15:16:30 -0400 (Tue, 11 Apr 2023) EllapsedTime: 12.1 seconds RetCode: 0 Status: OK