Package: recoup Version: 1.27.0 Command: /home/biocbuild/bbs-3.17-bioc/R/bin/R CMD check --install=check:recoup.install-out.txt --library=/home/biocbuild/bbs-3.17-bioc/R/site-library --timings recoup_1.27.0.tar.gz StartedAt: 2023-04-11 22:53:35 -0400 (Tue, 11 Apr 2023) EndedAt: 2023-04-11 23:00:45 -0400 (Tue, 11 Apr 2023) EllapsedTime: 430.1 seconds RetCode: 0 Status: OK CheckDir: recoup.Rcheck Warnings: 0