Package: ribor Version: 1.11.0 Command: /home/biocbuild/bbs-3.17-bioc/R/bin/R CMD INSTALL ribor StartedAt: 2023-04-12 01:37:43 -0400 (Wed, 12 Apr 2023) EndedAt: 2023-04-12 01:37:55 -0400 (Wed, 12 Apr 2023) EllapsedTime: 12.7 seconds RetCode: 0 Status: OK