git_url: https://git.bioconductor.org/packages/rifiComparative git_branch: devel git_last_commit: 6e23d61 git_last_commit_date: 2022-10-08 16:19:59 -0400 (Sat, 08 Oct 2022) Package: rifiComparative Version: 0.99.5 Maintainer: Loubna Youssar MaintainerEmail: lyoussar at gmail.com