Package: rmspc Version: 1.5.1 Command: /home/biocbuild/bbs-3.17-bioc/R/bin/R CMD build --keep-empty-dirs --no-resave-data rmspc StartedAt: 2023-04-11 17:44:32 -0400 (Tue, 11 Apr 2023) EndedAt: 2023-04-11 17:45:50 -0400 (Tue, 11 Apr 2023) EllapsedTime: 78.0 seconds RetCode: 0 Status: OK PackageFile: rmspc_1.5.1.tar.gz PackageFileSize: 2.129 MiB