git_url: https://git.bioconductor.org/packages/rpx git_branch: devel git_last_commit: 66277b9 git_last_commit_date: 2023-03-13 12:08:22 -0400 (Mon, 13 Mar 2023) Package: rpx Version: 2.7.4 Maintainer: Laurent Gatto MaintainerEmail: laurent.gatto at uclouvain.be