Package: rpx Version: 2.7.4 Command: /home/biocbuild/bbs-3.17-bioc/R/bin/R CMD check --install=check:rpx.install-out.txt --library=/home/biocbuild/bbs-3.17-bioc/R/site-library --timings rpx_2.7.4.tar.gz StartedAt: 2023-04-11 23:08:57 -0400 (Tue, 11 Apr 2023) EndedAt: 2023-04-11 23:09:46 -0400 (Tue, 11 Apr 2023) EllapsedTime: 49.7 seconds RetCode: 1 Status: ERROR CheckDir: rpx.Rcheck Warnings: NA