Package: rsemmed Version: 1.9.0 Command: /home/biocbuild/bbs-3.17-bioc/R/bin/R CMD check --install=check:rsemmed.install-out.txt --library=/home/biocbuild/bbs-3.17-bioc/R/site-library --timings rsemmed_1.9.0.tar.gz StartedAt: 2023-04-12 09:00:56 -0400 (Wed, 12 Apr 2023) EndedAt: 2023-04-12 09:01:53 -0400 (Wed, 12 Apr 2023) EllapsedTime: 57.2 seconds RetCode: 0 Status: OK CheckDir: rsemmed.Rcheck Warnings: 0