Package: runibic Version: 1.21.0 Command: /home/biocbuild/bbs-3.17-bioc/R/bin/R CMD check --install=check:runibic.install-out.txt --library=/home/biocbuild/bbs-3.17-bioc/R/site-library --timings runibic_1.21.0.tar.gz StartedAt: 2023-04-11 23:12:51 -0400 (Tue, 11 Apr 2023) EndedAt: 2023-04-11 23:15:28 -0400 (Tue, 11 Apr 2023) EllapsedTime: 157.5 seconds RetCode: 0 Status: OK CheckDir: runibic.Rcheck Warnings: 0