Package: runibic Version: 1.21.0 Command: /home/biocbuild/bbs-3.17-bioc/R/bin/R CMD INSTALL runibic StartedAt: 2023-04-11 15:34:21 -0400 (Tue, 11 Apr 2023) EndedAt: 2023-04-11 15:35:01 -0400 (Tue, 11 Apr 2023) EllapsedTime: 40.0 seconds RetCode: 0 Status: OK