Package: sampleClassifier Version: 1.23.0 Command: /home/biocbuild/bbs-3.17-bioc/R/bin/R CMD INSTALL sampleClassifier StartedAt: 2023-04-12 01:41:58 -0400 (Wed, 12 Apr 2023) EndedAt: 2023-04-12 01:42:25 -0400 (Wed, 12 Apr 2023) EllapsedTime: 27.3 seconds RetCode: 0 Status: OK