Package: scTGIF Version: 1.13.0 Command: /home/biocbuild/bbs-3.17-bioc/R/bin/R CMD build --keep-empty-dirs --no-resave-data scTGIF StartedAt: 2023-04-11 17:56:31 -0400 (Tue, 11 Apr 2023) EndedAt: 2023-04-11 17:57:40 -0400 (Tue, 11 Apr 2023) EllapsedTime: 69.3 seconds RetCode: 0 Status: OK PackageFile: scTGIF_1.13.0.tar.gz PackageFileSize: 2.383 MiB