Package: scTGIF Version: 1.13.0 Command: /home/biocbuild/bbs-3.17-bioc/R/bin/R CMD check --install=check:scTGIF.install-out.txt --library=/home/biocbuild/bbs-3.17-bioc/R/site-library --timings scTGIF_1.13.0.tar.gz StartedAt: 2023-04-11 23:26:53 -0400 (Tue, 11 Apr 2023) EndedAt: 2023-04-11 23:32:16 -0400 (Tue, 11 Apr 2023) EllapsedTime: 322.7 seconds RetCode: 0 Status: OK CheckDir: scTGIF.Rcheck Warnings: 0