Package: scTGIF Version: 1.13.0 Command: /home/biocbuild/bbs-3.17-bioc/R/bin/R CMD INSTALL scTGIF StartedAt: 2023-04-11 15:32:24 -0400 (Tue, 11 Apr 2023) EndedAt: 2023-04-11 15:33:05 -0400 (Tue, 11 Apr 2023) EllapsedTime: 40.8 seconds RetCode: 0 Status: OK